BEGIN:VCALENDAR
VERSION:2.0
PRODID:SchoolNow
CALSCALE:GREGORIAN
BEGIN:VEVENT
UID:9ad69b68-f931-11ef-8406-0a58a9feac02
DTSTAMP:20250304T194811Z
SUMMARY:Winter Break - D97 Schools Closed
URL;VALUE=URI:https://www.op97.org/calendar/7600820/winter-break-d97-school
 s-closed-2025
DTSTART;VALUE=DATE:20251222
DTEND;VALUE=DATE:20260103
END:VEVENT
END:VCALENDAR
