BEGIN:VCALENDAR
VERSION:2.0
PRODID:SchoolNow
CALSCALE:GREGORIAN
BEGIN:VEVENT
UID:e5475142-f931-11ef-a40c-0a58a9feac02
DTSTAMP:20250304T195016Z
SUMMARY:New Year's Day - D97 Schools/Offices Closed
URL;VALUE=URI:https://www.op97.org/calendar/7600821/new-years-day-d97-schoo
 ls-offices-closed-2026
DTSTART;VALUE=DATE:20260101
DTEND;VALUE=DATE:20260102
END:VEVENT
END:VCALENDAR
