BEGIN:VCALENDAR
VERSION:2.0
PRODID:SchoolNow
CALSCALE:GREGORIAN
BEGIN:VEVENT
UID:3960e3b0-f932-11ef-a3f0-02dd4933bcef
DTSTAMP:20250304T195237Z
SUMMARY:Memorial Day - D97 Schools/Offices Closed
URL;VALUE=URI:https://www.op97.org/calendar/7600822/memorial-day-d97-school
 s-offices-closed-2026
DTSTART;VALUE=DATE:20260525
DTEND;VALUE=DATE:20260526
END:VEVENT
END:VCALENDAR
