BEGIN:VCALENDAR
VERSION:2.0
PRODID:SchoolNow
CALSCALE:GREGORIAN
BEGIN:VEVENT
UID:6faa3b38-f932-11ef-bcd0-02cf11fa3775
DTSTAMP:20250304T195408Z
SUMMARY:Juneteenth - D97 Schools/Offices Closed
URL;VALUE=URI:https://www.op97.org/calendar/7600823/juneteenth-d97-schools-
 offices-closed-2026
DTSTART;VALUE=DATE:20260619
DTEND;VALUE=DATE:20260620
END:VEVENT
END:VCALENDAR
