BEGIN:VCALENDAR
VERSION:2.0
PRODID:SchoolNow
CALSCALE:GREGORIAN
BEGIN:VEVENT
UID:d68ad36c-f932-11ef-953c-02cf11fa3775
DTSTAMP:20250304T195701Z
SUMMARY:Spring Break - D97 Schools Closed
URL;VALUE=URI:https://www.op97.org/calendar/7600824/spring-break-d97-school
 s-closed-2026
DTSTART;VALUE=DATE:20260330
DTEND;VALUE=DATE:20260404
END:VEVENT
END:VCALENDAR
