BEGIN:VCALENDAR
VERSION:2.0
PRODID:SchoolNow
CALSCALE:GREGORIAN
BEGIN:VEVENT
UID:21ce8d52-0e85-11f0-9636-02074946ad83
DTSTAMP:20250331T230900Z
SUMMARY:Special Board Meeting
URL;VALUE=URI:https://www.op97.org/calendar/7818961/special-board-meeting-0
 40225
DTSTART:20250403T000000Z
DTEND:20250403T020000Z
END:VEVENT
END:VCALENDAR
