BEGIN:VCALENDAR
VERSION:2.0
PRODID:SchoolNow
CALSCALE:GREGORIAN
BEGIN:VEVENT
UID:10851224-171c-11f0-9cf9-0a58a9feac02
DTSTAMP:20250411T212935Z
SUMMARY:Special Board Meeting
URL;VALUE=URI:https://www.op97.org/calendar/7904601/special-board-meeting-0
 41425
DTSTART:20250415T000000Z
DTEND:20250415T020000Z
END:VEVENT
END:VCALENDAR
