BEGIN:VCALENDAR
VERSION:2.0
PRODID:SchoolNow
CALSCALE:GREGORIAN
BEGIN:VEVENT
UID:a6715a76-3289-11f0-b232-0ebd4a23a941
DTSTAMP:20250516T191436Z
SUMMARY:Finance Oversight and Review Committee (FORC) Meeting
URL;VALUE=URI:https://www.op97.org/calendar/8146905/finance-oversight-and-r
 eview-committee-forc-meeting
DTSTART:20250520T000000Z
DTEND:20250520T010000Z
END:VEVENT
END:VCALENDAR
