BEGIN:VCALENDAR
VERSION:2.0
PRODID:SchoolNow
CALSCALE:GREGORIAN
BEGIN:VEVENT
UID:5fd6a608-5a06-11f0-9797-0a58a9feac02
DTSTAMP:20250706T011307Z
SUMMARY:Special Board Meeting
URL;VALUE=URI:https://www.op97.org/calendar/8388299/special-board-meeting-0
 70725
DTSTART:20250707T220000Z
DTEND:20250708T000000Z
END:VEVENT
END:VCALENDAR
