BEGIN:VCALENDAR
VERSION:2.0
PRODID:SchoolNow
CALSCALE:GREGORIAN
BEGIN:VEVENT
UID:41d6f6cc-627f-11f0-b1f0-0a58a9feac02
DTSTAMP:20250718T230011Z
SUMMARY:Special Board Meeting
URL;VALUE=URI:https://www.op97.org/calendar/8420732/special-board-meeting-0
 72225
DTSTART:20250722T230000Z
DTEND:20250723T010000Z
END:VEVENT
END:VCALENDAR
