BEGIN:VCALENDAR
VERSION:2.0
PRODID:SchoolNow
CALSCALE:GREGORIAN
BEGIN:VEVENT
UID:d4863f12-7ae1-11f0-beea-02efef4a7877
DTSTAMP:20250818T230032Z
SUMMARY:Special Board Meeting
URL;VALUE=URI:https://www.op97.org/calendar/8513996/special-board-meeting-0
 81825
DTSTART:20250818T230000Z
DTEND:20250819T010000Z
END:VEVENT
END:VCALENDAR
