BEGIN:VCALENDAR
VERSION:2.0
PRODID:SchoolNow
CALSCALE:GREGORIAN
BEGIN:VEVENT
UID:9f19d028-82c0-11f0-90d3-0affc1bf85c7
DTSTAMP:20250826T210706Z
SUMMARY:Board Meeting
URL;VALUE=URI:https://www.op97.org/calendar/8547004/board-meeting-091625
DTSTART:20250917T000000Z
DTEND:20250917T045900Z
END:VEVENT
END:VCALENDAR
