BEGIN:VCALENDAR
VERSION:2.0
PRODID:SchoolNow
CALSCALE:GREGORIAN
BEGIN:VEVENT
UID:a119b122-82c0-11f0-bf53-0afff983aa55
DTSTAMP:20250917T141918Z
SUMMARY:CANCELED - Board Meeting
URL;VALUE=URI:https://www.op97.org/calendar/8547005/board-meeting-093025
DTSTART:20251001T000000Z
DTEND:20251001T045900Z
END:VEVENT
END:VCALENDAR
