BEGIN:VCALENDAR
VERSION:2.0
PRODID:SchoolNow
CALSCALE:GREGORIAN
BEGIN:VEVENT
UID:a30f140e-82c0-11f0-83bf-02b6ac64bda5
DTSTAMP:20251014T144950Z
SUMMARY:Board Meeting
URL;VALUE=URI:https://www.op97.org/calendar/8547006/board-meeting-101425
DTSTART:20251014T220000Z
DTEND:20251015T025900Z
END:VEVENT
END:VCALENDAR
