BEGIN:VCALENDAR
VERSION:2.0
PRODID:SchoolNow
CALSCALE:GREGORIAN
BEGIN:VEVENT
UID:a4f73e72-82c0-11f0-b2b6-02efef4a7877
DTSTAMP:20250826T210716Z
SUMMARY:Board Meeting
URL;VALUE=URI:https://www.op97.org/calendar/8547007/board-meeting-102825
DTSTART:20251029T000000Z
DTEND:20251029T045900Z
END:VEVENT
END:VCALENDAR
