BEGIN:VCALENDAR
VERSION:2.0
PRODID:SchoolNow
CALSCALE:GREGORIAN
BEGIN:VEVENT
UID:a72a16f6-82c0-11f0-adc4-0a58a9feac02
DTSTAMP:20250826T210719Z
SUMMARY:Board Meeting
URL;VALUE=URI:https://www.op97.org/calendar/8547008/board-meeting-111825
DTSTART:20251119T010000Z
DTEND:20251119T055900Z
END:VEVENT
END:VCALENDAR
