BEGIN:VCALENDAR
VERSION:2.0
PRODID:SchoolNow
CALSCALE:GREGORIAN
BEGIN:VEVENT
UID:a92d87d0-82c0-11f0-81ae-0a58a9feac02
DTSTAMP:20250826T210723Z
SUMMARY:Board Meeting
URL;VALUE=URI:https://www.op97.org/calendar/8547009/board-meeting-120925
DTSTART:20251210T010000Z
DTEND:20251210T055900Z
END:VEVENT
END:VCALENDAR
