BEGIN:VCALENDAR
VERSION:2.0
PRODID:SchoolNow
CALSCALE:GREGORIAN
BEGIN:VEVENT
UID:7a0fca3e-82c1-11f0-973c-0a58a9feac02
DTSTAMP:20250826T211313Z
SUMMARY:Board Meeting
URL;VALUE=URI:https://www.op97.org/calendar/8547016/board-meeting-011326
DTSTART:20260114T010000Z
DTEND:20260114T055900Z
END:VEVENT
END:VCALENDAR
