BEGIN:VCALENDAR
VERSION:2.0
PRODID:SchoolNow
CALSCALE:GREGORIAN
BEGIN:VEVENT
UID:7c28bc0e-82c1-11f0-819c-0a58a9feac02
DTSTAMP:20250826T211317Z
SUMMARY:Board Meeting
URL;VALUE=URI:https://www.op97.org/calendar/8547017/board-meeting-012726
DTSTART:20260128T010000Z
DTEND:20260128T055900Z
END:VEVENT
END:VCALENDAR
