BEGIN:VCALENDAR
VERSION:2.0
PRODID:SchoolNow
CALSCALE:GREGORIAN
BEGIN:VEVENT
UID:0ed0a0ee-82c2-11f0-a41f-02eb822844bf
DTSTAMP:20250826T211723Z
SUMMARY:Board Meeting
URL;VALUE=URI:https://www.op97.org/calendar/8547027/board-meeting-081126
DTSTART:20260812T000000Z
DTEND:20260812T045900Z
END:VEVENT
END:VCALENDAR
