BEGIN:VCALENDAR
VERSION:2.0
PRODID:SchoolNow
CALSCALE:GREGORIAN
BEGIN:VEVENT
UID:10faf860-82c2-11f0-9170-0affc8c049ad
DTSTAMP:20250826T211726Z
SUMMARY:Board Meeting
URL;VALUE=URI:https://www.op97.org/calendar/8547028/board-meeting-060926
DTSTART:20260610T000000Z
DTEND:20260610T045900Z
END:VEVENT
END:VCALENDAR
