BEGIN:VCALENDAR
VERSION:2.0
PRODID:SchoolNow
CALSCALE:GREGORIAN
BEGIN:VEVENT
UID:12bd3d7a-82c2-11f0-abd2-02eb822844bf
DTSTAMP:20250826T211729Z
SUMMARY:Board Meeting
URL;VALUE=URI:https://www.op97.org/calendar/8547029/board-meeting-052626
DTSTART:20260527T000000Z
DTEND:20260527T045900Z
END:VEVENT
END:VCALENDAR
