BEGIN:VCALENDAR
VERSION:2.0
PRODID:SchoolNow
CALSCALE:GREGORIAN
BEGIN:VEVENT
UID:1850fe66-82c2-11f0-bd6e-0affe844e53d
DTSTAMP:20250826T211739Z
SUMMARY:Board Meeting
URL;VALUE=URI:https://www.op97.org/calendar/8547032/board-meeting-041426
DTSTART:20260415T000000Z
DTEND:20260415T045900Z
END:VEVENT
END:VCALENDAR
