BEGIN:VCALENDAR
VERSION:2.0
PRODID:SchoolNow
CALSCALE:GREGORIAN
BEGIN:VEVENT
UID:1e1fed48-82c2-11f0-9b10-02b6ac64bda5
DTSTAMP:20260310T211742Z
SUMMARY:UPDATED: Board Meeting
URL;VALUE=URI:https://www.op97.org/calendar/8547035/board-meeting-031026
DTSTART:20260311T000000Z
DTEND:20260311T045900Z
END:VEVENT
END:VCALENDAR
