BEGIN:VCALENDAR
VERSION:2.0
PRODID:SchoolNow
CALSCALE:GREGORIAN
BEGIN:VEVENT
UID:aa73a2b8-d7a8-11f0-961a-0a58a9feac02
DTSTAMP:20251212T221946Z
SUMMARY:Special Board Meeting
URL;VALUE=URI:https://www.op97.org/calendar/8823143/special-board-meeting-1
 21625
DTSTART:20251217T000000Z
DTEND:20251217T020000Z
END:VEVENT
END:VCALENDAR
