BEGIN:VCALENDAR
VERSION:2.0
PRODID:SchoolNow
CALSCALE:GREGORIAN
BEGIN:VEVENT
UID:06279264-fe2c-11f0-b412-0affdc9a4f11
DTSTAMP:20260130T223548Z
SUMMARY:Special Board Meeting
URL;VALUE=URI:https://www.op97.org/calendar/8847166/special-board-meeting-0
 20226
DTSTART:20260203T000000Z
DTEND:20260203T020000Z
END:VEVENT
END:VCALENDAR
