BEGIN:VCALENDAR
VERSION:2.0
PRODID:SchoolNow
CALSCALE:GREGORIAN
BEGIN:VEVENT
UID:e15b20e8-73cf-11e8-9894-0af833ff8026
DTSTAMP:20180619T144851Z
SUMMARY:PTO Meeting
LOCATION:libratory
URL;VALUE=URI:https://www.op97.org/holmes/calendar/1797311/pto-meeting
DTSTART:20190522T233000Z
DTEND:20190523T010000Z
END:VEVENT
END:VCALENDAR
