BEGIN:VCALENDAR
VERSION:2.0
PRODID:SchoolNow
CALSCALE:GREGORIAN
BEGIN:VEVENT
UID:45f1edd6-16a3-11ee-855e-0a1119413869
DTSTAMP:20230629T173500Z
SUMMARY:Spring Break - D97 Schools Closed
URL;VALUE=URI:https://www.op97.org/holmes/calendar/4453084/spring-break-d97
 -schools-closed
DTSTART;VALUE=DATE:20240325
DTEND;VALUE=DATE:20240330
END:VEVENT
END:VCALENDAR
