BEGIN:VCALENDAR
VERSION:2.0
PRODID:SchoolNow
CALSCALE:GREGORIAN
BEGIN:VEVENT
UID:2b7766a0-16aa-11ee-8317-02f583e27a7f
DTSTAMP:20230629T182422Z
SUMMARY:2nd Trimester Ends
URL;VALUE=URI:https://www.op97.org/holmes/calendar/4454582/2nd-trimester-en
 ds
DTSTART:20240305T060000Z
DTEND:20240306T055900Z
END:VEVENT
END:VCALENDAR
