BEGIN:VCALENDAR
VERSION:2.0
PRODID:SchoolNow
CALSCALE:GREGORIAN
BEGIN:VEVENT
UID:05370fce-062b-11ef-ae3b-0affc994ba3d
DTSTAMP:20240429T131851Z
SUMMARY:Title 1 Family Math & Reading Night - invitation event
URL;VALUE=URI:https://www.op97.org/holmes/calendar/5880256/title-1-family-m
 ath-reading-night-invitation-event
DTSTART:20240430T230000Z
DTEND:20240501T000000Z
END:VEVENT
END:VCALENDAR
