BEGIN:VCALENDAR
VERSION:2.0
PRODID:SchoolNow
CALSCALE:GREGORIAN
BEGIN:VEVENT
UID:b6b0f896-062b-11ef-b1b7-0a58a9feac02
DTSTAMP:20240429T132349Z
SUMMARY:Kindergarten/1st grade Specials Showcase
URL;VALUE=URI:https://www.op97.org/holmes/calendar/5880257/kindergarten-1st
 -grade-specials-showcase
DTSTART:20240509T223000Z
DTEND:20240510T000000Z
END:VEVENT
END:VCALENDAR
