BEGIN:VCALENDAR
VERSION:2.0
PRODID:SchoolNow
CALSCALE:GREGORIAN
BEGIN:VEVENT
UID:f3df1d60-062b-11ef-8ab2-0a58a9feac02
DTSTAMP:20240429T132531Z
SUMMARY:5th Grade Completion Ceremony
URL;VALUE=URI:https://www.op97.org/holmes/calendar/5880258/5th-grade-comple
 tion-ceremony
DTSTART:20240531T133000Z
DTEND:20240531T153000Z
END:VEVENT
END:VCALENDAR
