BEGIN:VCALENDAR
VERSION:2.0
PRODID:SchoolNow
CALSCALE:GREGORIAN
BEGIN:VEVENT
UID:51911a12-062c-11ef-9ec9-0a58a9feac02
DTSTAMP:20240429T132808Z
SUMMARY:5th Grade Lock Under
URL;VALUE=URI:https://www.op97.org/holmes/calendar/5880259/5th-grade-lock-u
 nder
DTSTART:20240504T000000Z
DTEND:20240504T040000Z
END:VEVENT
END:VCALENDAR
