BEGIN:VCALENDAR
VERSION:2.0
PRODID:SchoolNow
CALSCALE:GREGORIAN
BEGIN:VEVENT
UID:bd11e8c2-657f-11ef-a41b-0a58a9feac02
DTSTAMP:20240828T205437Z
SUMMARY:Band/Orchestra Recruitment Night
LOCATION:Julian Middle School
URL;VALUE=URI:https://www.op97.org/holmes/calendar/6475951/band-orchestra-r
 ecruitment-night
DTSTART:20240903T220000Z
DTEND:20240904T010000Z
END:VEVENT
END:VCALENDAR
