BEGIN:VCALENDAR
VERSION:2.0
PRODID:SchoolNow
CALSCALE:GREGORIAN
BEGIN:VEVENT
UID:ed5462bc-657f-11ef-a819-0affdffb2bc5
DTSTAMP:20240829T123052Z
SUMMARY:Band/Orchestra Recruitment Night - Live Stream
URL;VALUE=URI:https://www.op97.org/holmes/calendar/6475952/band-orchestra-r
 ecruitment-night-live-stream
DTSTART:20240905T000000Z
DTEND:20240905T010000Z
END:VEVENT
END:VCALENDAR
