BEGIN:VCALENDAR
VERSION:2.0
PRODID:SchoolNow
CALSCALE:GREGORIAN
BEGIN:VEVENT
UID:e2adc7f0-6614-11ef-b00f-0a58a9feac02
DTSTAMP:20240829T144216Z
SUMMARY:2nd & 3rd grade musical performance
URL;VALUE=URI:https://www.op97.org/holmes/calendar/6481554/2nd-3rd-grade-mu
 sical-performance
DTSTART:20241010T220000Z
DTEND:20241011T003000Z
END:VEVENT
END:VCALENDAR
