BEGIN:VCALENDAR
VERSION:2.0
PRODID:SchoolNow
CALSCALE:GREGORIAN
BEGIN:VEVENT
UID:1fa6ab7c-6615-11ef-b947-0e598363e4bb
DTSTAMP:20240829T144358Z
SUMMARY:4th & 5th grade music performance
URL;VALUE=URI:https://www.op97.org/holmes/calendar/6481555/4th-5th-grade-mu
 sic-performance
DTSTART:20250130T230000Z
DTEND:20250131T013000Z
END:VEVENT
END:VCALENDAR
