BEGIN:VCALENDAR
VERSION:2.0
PRODID:SchoolNow
CALSCALE:GREGORIAN
BEGIN:VEVENT
UID:5b115b08-6615-11ef-a254-0a58a9feac02
DTSTAMP:20240829T144537Z
SUMMARY:k & 1st grade music performance
URL;VALUE=URI:https://www.op97.org/holmes/calendar/6481556/k-1st-grade-musi
 c-performance
DTSTART:20250410T213000Z
DTEND:20250411T000000Z
END:VEVENT
END:VCALENDAR
