BEGIN:VCALENDAR
VERSION:2.0
PRODID:SchoolNow
CALSCALE:GREGORIAN
BEGIN:VEVENT
UID:314f0eba-71e5-11ef-8d01-0a58a9feac02
DTSTAMP:20240913T153106Z
SUMMARY:PTO Carnival
URL;VALUE=URI:https://www.op97.org/holmes/calendar/6594645/pto-carnival
DTSTART:20240921T203000Z
DTEND:20240921T230000Z
END:VEVENT
END:VCALENDAR
