BEGIN:VCALENDAR
VERSION:2.0
PRODID:SchoolNow
CALSCALE:GREGORIAN
BEGIN:VEVENT
UID:59964a0a-71e5-11ef-9b90-0afff7df8a9b
DTSTAMP:20240913T153213Z
SUMMARY:PTO Movie Night
URL;VALUE=URI:https://www.op97.org/holmes/calendar/6594646/pto-movie-night
DTSTART:20241018T233000Z
DTEND:20241019T013000Z
END:VEVENT
END:VCALENDAR
