BEGIN:VCALENDAR
VERSION:2.0
PRODID:SchoolNow
CALSCALE:GREGORIAN
BEGIN:VEVENT
UID:8f109ca8-71e5-11ef-a634-0a58a9feac02
DTSTAMP:20240913T153343Z
SUMMARY:PTO Student Fun Night
URL;VALUE=URI:https://www.op97.org/holmes/calendar/6594647/pto-student-fun-
 night
DTSTART:20241109T003000Z
DTEND:20241109T023000Z
END:VEVENT
END:VCALENDAR
