BEGIN:VCALENDAR
VERSION:2.0
PRODID:SchoolNow
CALSCALE:GREGORIAN
BEGIN:VEVENT
UID:10dc34f0-8649-11ef-9cf8-025a56834d95
DTSTAMP:20241009T141624Z
SUMMARY:Pancake Breakfast
URL;VALUE=URI:https://www.op97.org/holmes/calendar/6790121/pancake-breakfas
 t
DTSTART:20241102T130000Z
DTEND:20241102T170000Z
END:VEVENT
END:VCALENDAR
