BEGIN:VCALENDAR
VERSION:2.0
PRODID:SchoolNow
CALSCALE:GREGORIAN
BEGIN:VEVENT
UID:f56869c6-9077-11ef-b29c-0a58a9feac02
DTSTAMP:20241022T131716Z
SUMMARY:Chorus Performance
URL;VALUE=URI:https://www.op97.org/holmes/calendar/6876041/chorus-performan
 ce
DTSTART:20241108T010000Z
DTEND:20241108T021500Z
END:VEVENT
END:VCALENDAR
