BEGIN:VCALENDAR
VERSION:2.0
PRODID:SchoolNow
CALSCALE:GREGORIAN
BEGIN:VEVENT
UID:b06198f2-9072-11ea-b089-0a90fb541611
DTSTAMP:20200507T145444Z
SUMMARY:Remote Learning
URL;VALUE=URI:https://www.op97.org/irving/calendar/2245347/remote-learning-
 052820
DTSTART;VALUE=DATE:20200528
DTEND;VALUE=DATE:20200529
END:VEVENT
END:VCALENDAR
