BEGIN:VCALENDAR
VERSION:2.0
PRODID:SchoolNow
CALSCALE:GREGORIAN
BEGIN:VEVENT
UID:29bcced8-ba26-11ea-895d-0a7d85804c09
DTSTAMP:20210130T171525Z
SUMMARY:No School- Presidents Day
URL;VALUE=URI:https://www.op97.org/irving/calendar/2270576/no-school-presid
 ents-day
DTSTART;VALUE=DATE:20210215
DTEND;VALUE=DATE:20210216
END:VEVENT
END:VCALENDAR
