BEGIN:VCALENDAR
VERSION:2.0
PRODID:SchoolNow
CALSCALE:GREGORIAN
BEGIN:VEVENT
UID:3bd94e7a-ba26-11ea-aeb1-0a7d85804c09
DTSTAMP:20200915T154305Z
SUMMARY:End of Trimester 1
URL;VALUE=URI:https://www.op97.org/irving/calendar/2270586/end-of-trimester
 -1
DTSTART;VALUE=DATE:20201124
DTEND;VALUE=DATE:20201125
END:VEVENT
END:VCALENDAR
