BEGIN:VCALENDAR
VERSION:2.0
PRODID:SchoolNow
CALSCALE:GREGORIAN
BEGIN:VEVENT
UID:ac584f78-f6a5-11ea-965c-0a19f4b3c3d9
DTSTAMP:20200914T161640Z
SUMMARY:D97 Meal Distribution
URL;VALUE=URI:https://www.op97.org/irving/calendar/2353772/meal-distributio
 n-09222020
DTSTART:20200922T153000Z
DTEND:20200922T180000Z
END:VEVENT
END:VCALENDAR
