BEGIN:VCALENDAR
VERSION:2.0
PRODID:SchoolNow
CALSCALE:GREGORIAN
BEGIN:VEVENT
UID:cced87bc-f6a5-11ea-b90b-0a19f4b3c3d9
DTSTAMP:20200914T161735Z
SUMMARY:D97 Meal Distribution
URL;VALUE=URI:https://www.op97.org/irving/calendar/2353803/meal-distributio
 n-101320
DTSTART:20201013T153000Z
DTEND:20201013T180000Z
END:VEVENT
END:VCALENDAR
