BEGIN:VCALENDAR
VERSION:2.0
PRODID:SchoolNow
CALSCALE:GREGORIAN
BEGIN:VEVENT
UID:d68350b8-f6a5-11ea-a812-0a19f4b3c3d9
DTSTAMP:20200914T161751Z
SUMMARY:D97 Meal Distribution
URL;VALUE=URI:https://www.op97.org/irving/calendar/2353813/meal-distributio
 n-102020
DTSTART:20201020T153000Z
DTEND:20201020T180000Z
END:VEVENT
END:VCALENDAR
