BEGIN:VCALENDAR
VERSION:2.0
PRODID:SchoolNow
CALSCALE:GREGORIAN
BEGIN:VEVENT
UID:e0e5b0dc-f6a5-11ea-aefc-0a19f4b3c3d9
DTSTAMP:20200914T161809Z
SUMMARY:D97 Meal Distribution
URL;VALUE=URI:https://www.op97.org/irving/calendar/2353823/meal-distributio
 n-102720
DTSTART:20201027T153000Z
DTEND:20201027T180000Z
END:VEVENT
END:VCALENDAR
